BEGIN:VCALENDAR
VERSION:2.0
PRODID:-//ГО “Батьки за вакцинацію” - ECPv6.3.5//NONSGML v1.0//EN
CALSCALE:GREGORIAN
METHOD:PUBLISH
X-WR-CALNAME:ГО “Батьки за вакцинацію”
X-ORIGINAL-URL:https://bzv.org.ua
X-WR-CALDESC:Events for ГО “Батьки за вакцинацію”
REFRESH-INTERVAL;VALUE=DURATION:PT1H
X-Robots-Tag:noindex
X-PUBLISHED-TTL:PT1H
BEGIN:VTIMEZONE
TZID:Europe/Moscow
BEGIN:STANDARD
TZOFFSETFROM:+0300
TZOFFSETTO:+0300
TZNAME:MSK
DTSTART:20160101T000000
END:STANDARD
END:VTIMEZONE
BEGIN:VEVENT
DTSTART;TZID=Europe/Moscow:20250903T080000
DTEND;TZID=Europe/Moscow:20250903T170000
DTSTAMP:20260423T080920
CREATED:20250903T085255Z
LAST-MODIFIED:20250903T085524Z
UID:10492-1756886400-1756918800@bzv.org.ua
SUMMARY:У Національному календарі щеплень з'явилася вакцина від вірусу папіломи людини
DESCRIPTION:  \n \nВірус папіломи людини (ВПЛ) — одна з головних причин раку шийки матки та інших онкозахворювань\, які можна попередити вакцинацією. Україна цього року запускає державну програму безоплатної вакцинації дітей 9–14 років. У цьому випуску розбираємо:. Гість ефіру вінницької програми “На часі” Наталія Гриньова\, лікар-імунолог\, епідеміолог\, керівниця Вінницького осередку ГО “Батьки за вакцинацію”\, членкиня ради “Коаліція за вакцинацію”\, яка розповість: – як працює нова державна програма вакцинації від ВПЛ; – де і як можна вакцинувати дітей вже сьогодні; – чому важливо вакцинувати не лише дівчат\, а й хлопців; – які поширені міфи варто розвіяти; – які виклики стоять перед медичною системою і батьками; – як захистити здоров’я своєї дитини. Ефір за посиланням https://www.youtube.com/watch?v=ByA6NgY9ecw
URL:https://bzv.org.ua/event/u-natsionalnomu-kalendari-shheplen-z-yavylasya-vaktsyna-vid-virusu-papilomy-lyudyny/
END:VEVENT
BEGIN:VEVENT
DTSTART;TZID=Europe/Moscow:20250528T140000
DTEND;TZID=Europe/Moscow:20250528T160000
DTSTAMP:20260423T080920
CREATED:20250522T083109Z
LAST-MODIFIED:20250522T083109Z
UID:10436-1748440800-1748448000@bzv.org.ua
SUMMARY:Готуємось до літа: здоров’я та безпека дитини. Вебінар для батьків
DESCRIPTION:Готуємось до літа: здоров’я та безпека дитини. Вебінар для батьків
URL:https://bzv.org.ua/event/gotuyemos-do-lita-zdorov-ya-ta-bezpeka-dytyny-vebinar-dlya-batkiv/
END:VEVENT
BEGIN:VEVENT
DTSTART;TZID=Europe/Moscow:20170424T120000
DTEND;TZID=Europe/Moscow:20170424T140000
DTSTAMP:20260423T080920
CREATED:20170412T175135Z
LAST-MODIFIED:20200125T155927Z
UID:2975-1493035200-1493042400@bzv.org.ua
SUMMARY:Прес-конференція. Як досягти європейського рівня імунізації
DESCRIPTION:В перший день Українського тижня імунізації\, 24 квітня\, в Києві відбудеться прес-конференція “Як досягти європейського рівня імунізації”. \nДе: Київ\, вул. Велика Васильківська 55\, НСК Олімпійський\, Олімпійський дворик.\nКоли: 24 квітня з 12.00 до 14.00 \nУ прес-конференцій візьмут участь представники МОЗ\, ВООЗ\, відомі лікарі та представники громадськості. \nДеталі буде повідомлено додатково.
URL:https://bzv.org.ua/event/pres-konferentsiya-yak-dosyagti-yevropeyskogo-rivnya-imunizatsiyi/
ATTACH;FMTTYPE=image/jpeg:https://bzv.org.ua/wp-content/uploads/2017/04/foto16-1.jpg
END:VEVENT
BEGIN:VEVENT
DTSTART;TZID=Europe/Moscow:20170424T100000
DTEND;TZID=Europe/Moscow:20170424T140000
DTSTAMP:20260423T080920
CREATED:20170412T174713Z
LAST-MODIFIED:20170412T174742Z
UID:2974-1493028000-1493042400@bzv.org.ua
SUMMARY:Зустріч для батьків з Євгеном Комаровським
DESCRIPTION:В перший день Європейського тижня імунізації\, 24 квітня\, в Києві відбудеться зустріч для батьків з відомим лікарем Євгеном Комаровським. Зустріч приурочена до Українського тижня імунізації.\nНа заході всіх гостей чекають:\n🔸Виступи улюблених лікарів та блок «Питання-відповіді»\,\n🔸Конференція з представниками найбільших організацій у сфері здоров’я\,\n🔸Lego-кімната для дітей\,\n🔸Дитячі майстер-класи\,\n🔸Фотозони\,\n🔸Багато подарунків від партнерів\,\n🔸Виставка дитячих малюнків на тему вакцинації\,\n🔸Пеленальна кімната\,\n🔸Корисні довідники для батьків та розмальовки для дітей в подарунок\,\n🔸Святкова атмосфера та корисні знання. \nБатьки дізнаються в улюбленого лікаря все про вакцинацію\, а для дітей будуть організовані цікаві активності. \nДе: Київ\, вул. Велика Васильківська 55\, НСК Олімпійський\, Олімпійський дворик.\nКоли: 24 квітня з 10.00 до 14.00 \nЯк отримати запрошення на захід?\nВхід по запрошенням за умови підтримки заходу. Щоб підтримати захід\, потрібно розмістити на своїй сторінці аватарку\, присвячену Українському тижню імунізації\, за допомогою дуже простого сервісаhttps://twibbon.com/support/immunizeukraine/ \nПісля цього потрібно пройти обов’язкову реєстрацію https://goo.gl/forms/AlUNONg0NppEjJb13 та отримати запрошення!
URL:https://bzv.org.ua/event/zustrich-dlya-batkiv-z-yevgenom-komarovskim/
ATTACH;FMTTYPE=image/jpeg:https://bzv.org.ua/wp-content/uploads/2017/04/foto20.jpg
END:VEVENT
BEGIN:VEVENT
DTSTART;TZID=Europe/Moscow:20170422T100000
DTEND;TZID=Europe/Moscow:20170423T160000
DTSTAMP:20260423T080920
CREATED:20170412T175420Z
LAST-MODIFIED:20170412T175420Z
UID:2976-1492855200-1492963200@bzv.org.ua
SUMMARY:В Києві відбудеться тренінг «Агентів змін з вакцинації»
DESCRIPTION:22-23.04.2017 відбудеться дводенний тренінг «Агентів змін з вакцинації» (м. Київ). \nАгенти змін – це лікарі\, батьки та представники ЗМІ\, які після тренінгу зможуть проводити інформаційно-роз’яснювальну роботу серед населення задля підвищення рівня лояльності до вакцинації в Україні. \nВашими тренерами на заході стануть лікарі\, батьки\, громадські активісти та журналісти\, які вже мають успішний досвід роботи в цьому напрямку\, а також представники Міністерства охорони здоров’я (МОЗ)\, представники Всесвітньої організації охорони здоров’я (ВООЗ)\, представники ГО «Батьки за вакцинацію» та виробників вакцин\, які розкажуть про тему детальніше. \nТренінг проводиться за ініціативою ГО “Батьки за вакцинацію” при підтримці Ротарі в Україні та відбудеться напередодні початку Українського тижня імунізації\, що триватиме 24-30 квітня 2017 року. \nКількість місць обмежена\, тому остаточний перелік слухачів визначить співбесіда з урахуванням регіонального представництва. \nУчасть у тренінгу безкоштовна. Проїзд міжміським громадським транспортом\, а також проживання в готелі та харчування компенсується організаторами тренінгу. \nДодаткова інформація
URL:https://bzv.org.ua/event/v-kiyevi-vidbudetsya-trening-agentiv-zmin-z-vaktsinatsiyi/
ATTACH;FMTTYPE=image/jpeg:https://bzv.org.ua/wp-content/uploads/2017/04/cover.jpg
END:VEVENT
BEGIN:VEVENT
DTSTART;TZID=Europe/Moscow:20170207T143000
DTEND;TZID=Europe/Moscow:20170207T153000
DTSTAMP:20260423T080920
CREATED:20170203T130029Z
LAST-MODIFIED:20170203T140930Z
UID:2764-1486477800-1486481400@bzv.org.ua
SUMMARY:Прес-конференція: Як досягти європейського рівня вакцинації в Україні. Роль громадськості
DESCRIPTION:У вівторок\, 7 лютого 2017 року\, о 14.30 год. в Українському кризовому медіацентрі (м. Київ) відбудеться прес-конференція «Як досягти європейського рівня вакцинації в Україні? Роль громадськості». Ініціатор проведення заходу – ГО «Батьки за вакцинацію». \nДо участі у прес-конференції запрошені: \n\nОксана Сивак\, Заступник Міністра охорони здоров’я України з питань європейської інтеграції;\nНаталія Нізова\, Генеральний директор ДУ «Центр громадського здоров’я МОЗ України»;\nВусала Алахвердієва\, експерт ВООЗ з питань попередження розповсюдження захворювань та імунізації;\nКатерина Булавінова\, медичний експерт Дитячого фонду ООН (ЮНІСЕФ);\nФедір Лапій\, головний дитячий імунолог м. Києва;\nТимофій Бадіков\, Голова правління ГО «Батьки за вакцинацію»;\nСергій Завадський\, Голова Національного комітету «Поліо Плюс» в Україні\, представник Ротарі в Україні.\n\nПерелік питань для обговорення: \n\nАктуальна статистика розповсюдження вакцинації в Україні;\nІніціатива проведення Українського тижня імунізації;\nРоль Центру громадського здоров’я у забезпеченні захисту місцевих громад від інфекційних захворювань;\nВплив міжнародних організацій ВООЗ та ЮНІСЕФ на стан імунізації в Україні;\nРоль громадських організацій у захисті населення від інфекційних хвороб. Досвід кампанії з протидії спалаху поліомієліту в Україні.\n\nЗапрошуємо представників засобів масової інформації відвідати захід та висвітлити основні тези зустрічі.
URL:https://bzv.org.ua/event/pres-konferentsiya-yak-dosyagti-yevropeyskogo-rivnya-vaktsinatsiyi-v-ukrayini-rol-gromadskosti/
ATTACH;FMTTYPE=image/jpeg:https://bzv.org.ua/wp-content/uploads/2017/02/adasdas.jpg
END:VEVENT
BEGIN:VEVENT
DTSTART;TZID=Europe/Moscow:20161022T110000
DTEND;TZID=Europe/Moscow:20161022T120000
DTSTAMP:20260423T080920
CREATED:20161009T135439Z
LAST-MODIFIED:20161013T154522Z
UID:2264-1477134000-1477137600@bzv.org.ua
SUMMARY:Зустріч ГО "Батьки за вакцинацію" з лікарями
DESCRIPTION:22 жовтня відбудеться зустріч представників ГО “Батьки за вакцинацію” з лікарями міста Києва. \nВ рамках заходу буде презентований довідник з вакцинації “Відповіді на складні питання батьків щодо вакцинації”\, автором якого став головний дитячий імунолог міста Києва Федір Лапій. \n \nВсім присутнім будуть надані примірники довіднику\, які вони зможуть використовувати у своїй роботі. \nЗустріч пройде 22 жовтня об 11.00 у Київському міському дитячному діагностичному центрі\, вул. Урлівська 13. \nНагадаємо\, що довідник було видано при підтримці Ротарі в Україні та ГО “Батьки за вакцинацію”.
URL:https://bzv.org.ua/event/zustrich-go-batki-za-vaktsinatsiyu-z-likaryami/
ATTACH;FMTTYPE=image/jpeg:https://bzv.org.ua/wp-content/uploads/2016/10/foto13.jpg
END:VEVENT
BEGIN:VEVENT
DTSTART;TZID=Europe/Moscow:20161007T180000
DTEND;TZID=Europe/Moscow:20161007T193000
DTSTAMP:20260423T080920
CREATED:20160922T104959Z
LAST-MODIFIED:20160929T090551Z
UID:2122-1475863200-1475868600@bzv.org.ua
SUMMARY:Зустріч для батьків міста Миколаїв. Вакцинація у питаннях та відповідях
DESCRIPTION:7 жовтня о 18.00 в місті Миколаїв відбудеться зустріч з батьками на тему «Вакцинація — це важливо». \n \nСпікери зустрічі: \n\nОскіна Тетяна Володимирівна\, головний імунолог обласної дитячої лікарні Миколаєва\,\nКіволя Альбіна Володимирівна\, педіатр обласної дитячої лікарні Миколаєва\,\nАнатолій Парубець\, Rotary Club Mykolaiv.\n\nНа зустрічі батьки зможуть задати експертам питання стосовно вакцинації та отримати професійну та достовірну інформацію. Крім того\, всі присутні отримають корисні буклети та книжки. \nЗахід відбудеться за адресою: вул. Колодязна 3А\, Сімейний психологічний центр «Клуб неслухняних дітей» \nЯк нас знайти: \n \nВхід вільний\, за реєстрацією>> https://goo.gl/5MEgS5 \nтел. 099-632-99-65\, 073-405-13-40 \nЗахід відбуватиметься за підтримки Ротарі в Україні та ГО «Батьки за вакцинацію».
URL:https://bzv.org.ua/event/zustrich-dlya-batkiv-mista-mikolayiv-vaktsinatsiya-u-pitannyah-ta-vidpovidyah/
ATTACH;FMTTYPE=image/jpeg:https://bzv.org.ua/wp-content/uploads/2016/09/foto8-3.jpg
END:VEVENT
BEGIN:VEVENT
DTSTART;TZID=Europe/Moscow:20160823T080000
DTEND;TZID=Europe/Moscow:20160930T170000
DTSTAMP:20260423T080920
CREATED:20160823T115558Z
LAST-MODIFIED:20160823T115558Z
UID:1864-1471939200-1475254800@bzv.org.ua
SUMMARY:Лікарям надсилаються Довідники з вакцинації
DESCRIPTION:На нашу адресу надходять численні заявки на отримання примірників Довідника з вакцинації від лікарів з 24 регіонів України. Це педіатри\, імунологи\, інфекціоністи та лікарі інших спеціальностей\, що безпосередньо опікуються профілактикою інфекційних захворювань у дітей.  \n \nЗагальна кількість примірників\, які вони бажають отримати\, наразі складає близько 2500. Ці цифри красномовно свідчать\, наскільки актуальною є тема вакцинації\, і демонструють прагнення українських лікарів вдосконалювати свої знання заради здоров’я маленьких пацієнтів. \nМи вже надіслали довідники багатьом лікарям\, які розповсюджують довідники та дитячі розмальовки серед батьків. \n \n \nЗаявки на отримання цього посібника продовжують надходити – не лише від лікарів\, але від батьків\, вчителів. Але наразі ми зібрали кошти на друк невеликого накладу довідника. Зараз триває збір коштів для видання широкого накладу на фандрейзинговій платформі «Спільнокошт». Ми плануємо поширювати довідник безкоштовно на зустрічах\, які проводить наша організація\, а також надавати примірники в пологові будинки\, дитячі садочки\, школи\, дитячі поліклініки. Тому нам вкрай потрібна підтримка та допомога кожного з вас. \n\nПідтримайте проект\, зробіть свій внесок за посиланням https://goo.gl/dMd7C5. \n\nВаші 20\, 50 чи 100 гривень допоможуть кожному\, хто потребує таких важливих знань\, отримати їх.
URL:https://bzv.org.ua/event/likaryam-nadsilayutsya-dovidniki-z-vaktsinatsiyi/
ATTACH;FMTTYPE=image/jpeg:https://bzv.org.ua/wp-content/uploads/2016/08/foto6.jpg
END:VEVENT
BEGIN:VEVENT
DTSTART;TZID=Europe/Moscow:20160801T080000
DTEND;TZID=Europe/Moscow:20160802T150000
DTSTAMP:20260423T080920
CREATED:20160801T080054Z
LAST-MODIFIED:20160801T144314Z
UID:1526-1470038400-1470150000@bzv.org.ua
SUMMARY:Прес-конференція "Правець! Загроза здоров’ю та життю дитини та як її уникнути"
DESCRIPTION:2 серпня о 14.00 в Українському кризовому медіа-центрі (м. Київ\, Український Дім\, вул. Хрещатик\, 2) відбудеться прес-конференція на тему «Правець! Загроза здоров’ю та життю дитини та як її уникнути». \nПерелік питань для обговорення: \n\nПравець знов загрожує українцям\nЩо таке правець\, статистика\nЯк захиститися від правцю\nЗначення вакцинації для захисту людства від хвороб\nІніціативи громадських організацій щодо створення позитивного іміджу вакцинації серед батьків.\n\nВ конференції прийматимуть участь: \n\nУляна Супрун – виконувач обов’язки міністра охорони здоров’я України\nФедір Лапій – головний дитячий імунолог ГУОЗ м.Києва\nОльга Стефанишина – виконавчий директор БФ «Пацієнти України»\nТимофій Бадіков – голова ГО «Батьки за вакцинацію»\nНаталія Винник – інфекціоніст\, виконавчий директор ГО «Імунний щит нації»\n\nМодератор: Наталія Рибачик\, член правління ГО “Батьки за вакцинацію” \nІніціатор проведення заходу: ГО «Батьки за вакцинацію» \nГромадська організація «Батьки за вакцинацію» об’єднує свідомих батьків\, які відповідально ставляться до здоров’я дітей та розуміють значення вакцинації у формуванні імунітету кожної людини. Головною метою Організації є попередження інфекційних хвороб через забезпечення загальної доступності імунізації. \nЗапрошуємо представників преси відвідати захід та висвітлити основні тези зустрічі. \nАкредитація преси info@bzv.org.ua
URL:https://bzv.org.ua/event/pres-konferentsiya-pravets-zagroza-zdorov-yu-ta-zhittyu-ditini-ta-yak-yiyi-uniknuti/
ATTACH;FMTTYPE=image/png:https://bzv.org.ua/wp-content/uploads/2016/08/foto7.png
END:VEVENT
BEGIN:VEVENT
DTSTART;TZID=Europe/Moscow:20160708T080000
DTEND;TZID=Europe/Moscow:20160914T170000
DTSTAMP:20260423T080920
CREATED:20160708T134340Z
LAST-MODIFIED:20160709T094038Z
UID:1297-1467964800-1473872400@bzv.org.ua
SUMMARY:Збір коштів на видання довідника для батьків
DESCRIPTION:ГО «Батьки за вакцинацію» започаткувала проект «Вакцинація — це важливо! Видання довідника для батьків» на сайті Спільнокошт. \nНаразі мі збираємо кошти для розширення тиражу довідника “Відповіді на складні питання батьків про вакцинацію”. \nДовідник буде поширюватися безкоштовно на зустрічах\, які проводить наша організація. \nТакож ми будемо надавати примірники в пологові будинки\, дитячі садочки\, школи\, дитячі поліклініки. \nІ\, щоб реалізувати це\, дуже необхідна ваша допомога. \nЗапрошуємо вас долучитися до ідеї просвітницької роботи в питанні\, яке нині стоїть дуже гостро і вимагає уваги з боку громадськості. Адже воно стосується майбутнього наших дітей.
URL:https://bzv.org.ua/event/zbir-koshtiv-na-vidannya-dovidnika-dlya-batkiv/
ATTACH;FMTTYPE=image/png:https://bzv.org.ua/wp-content/uploads/2016/07/foto2.png
END:VEVENT
BEGIN:VEVENT
DTSTART;TZID=Europe/Moscow:20160708T080000
DTEND;TZID=Europe/Moscow:20160808T170000
DTSTAMP:20260423T080920
CREATED:20160708T140054Z
LAST-MODIFIED:20160709T094725Z
UID:1301-1467964800-1470675600@bzv.org.ua
SUMMARY:Проведення зістрічі для батьків на тему вакцинації у Слов'янську
DESCRIPTION:ГО “Батьки за вакцинацію” найближчим часом планує проведення зустрічі для батьків на тему “Вакцинація у питаннях та відповідях” в місті Слов’янськ. \nВ рамках зустрічі на питання батьків відповідатимуть найкращі фахівці з вакцинації. \nДата та місце проведення будуть повідомлені додатково.
URL:https://bzv.org.ua/event/provedennya-zistrichi-dlya-batkiv-na-temu-vaktsinatsiyi-u-slovyansku/
ATTACH;FMTTYPE=image/png:https://bzv.org.ua/wp-content/uploads/2016/07/foto5.png
END:VEVENT
BEGIN:VEVENT
DTSTART;TZID=Europe/Moscow:20160626T090000
DTEND;TZID=Europe/Moscow:20160626T120000
DTSTAMP:20260423T080920
CREATED:20160624T195416Z
LAST-MODIFIED:20160624T195703Z
UID:1014-1466931600-1466942400@bzv.org.ua
SUMMARY:End Polio Now. Благодійний велопробіг
DESCRIPTION:26 червня у Києві відбудеться благодійний велопробіг під гаслом End Polio Now\, метою якого є збір коштів на підтримку глобальної боротьби за повне викорінення поліомієліту в світі. Захід проводиться за ініціативою міжнародного руху Ротарі Інтернешнл (Ротарі в Україні)\, Національного комітету Поліо Плюс Україна\, Благодійної фундації «Відкриті серця України»\, ГО «Батьки за вакцинацію». \n \nЗапрошуємо представників засобів масової інформації відвідати цей захід та висвітлити інформацію про успіхи людства на шляху до ліквідації поліомієліту\, а також про внесок України в глобальну боротьбу з цим захворюванням. \nБлагодійні внески:\n– для тих\, хто має свої велосипеди – благодійна пожертва від 100 грн\,\n– для тих\, хто орендує велосипед та шолом на місці заходу за попередньої реєстрацією – благодійна пожертва від 250 грн.\nКошти можна пожертвувати в день заходу\, або завчасно перерахувати організаторам. \nПриєднуйтесь до нашої команди\, заповнивши анкету за посиланням \nУсі подробиці ТУТ
URL:https://bzv.org.ua/event/end-polio-now-blagodiyniy-veloprobig/
ATTACH;FMTTYPE=image/jpeg:https://bzv.org.ua/wp-content/uploads/2016/06/foto8.jpg
END:VEVENT
BEGIN:VEVENT
DTSTART;TZID=Europe/Moscow:20160601T080000
DTEND;TZID=Europe/Moscow:20161031T170000
DTSTAMP:20260423T080920
CREATED:20160624T200650Z
LAST-MODIFIED:20161009T135611Z
UID:1017-1464768000-1477933200@bzv.org.ua
SUMMARY:Всеукраїнський конкурс дитячого малюнку «Чарівна Парасолька»
DESCRIPTION:В День захисту дітей\, 1 червня\, стартував Всеукраїнський конкурс дитячого малюнку «Чарівна парасолька». \n \nКонкурс ініційований громадською організацією «Батьки за вакцинацію». Члени організації вже завітали до київських шкільних таборів та запропонували діткам послухати казку «Чарівна парасолька». Після прослуховування казки дітки малюють свої малюнки-ілюстрації до казки. \n \nСередня школа №244 \nВ кожній школі\, куди завітають представники організації\, журі обиратиме переможців\, які отримають подарунки\, а всі інші дітки\, які підготують малюнки\, отримають заохочувальні сувеніри. \n\nСередня школа № 240 \nКонкурс триватиме все літо\, переможців в кожній школі журі обиратиме на проміжних етапах голосування. \nВосени ГО «Батьки за вакцинацію» влаштує виставку найкращих робіт школярів. \n \nСередня школа №194 \nДовідка. Громадська організація «Батьки за вакцинацію» об’єднує свідомих батьків\, які відповідально ставляться до здоров’я дітей та розуміють значення вакцинації в формуванні імунітету кожної людини. Відповідно до Статуту\, головною метою Організації є попередження інфекційних хвороб шляхом забезпечення загальної доступності імунізації\, а також надання батькам достовірної інформації щодо імунізації. \nПодати заявку від навчального закладу на участь у конкурсі малюнку «Чарівна парасолька» можна у довільній формі за адресою info@bzv.org.ua 
URL:https://bzv.org.ua/event/vseukrayinskiy-konkurs-dityachogo-malyunku-charivna-parasolka/
ATTACH;FMTTYPE=image/jpeg:https://bzv.org.ua/wp-content/uploads/2016/06/foto12.jpg
END:VEVENT
END:VCALENDAR